View In:
ArcGIS JavaScript
ArcGIS.com Map
ArcGIS Earth
ArcMap
View Footprint In:
ArcGIS.com Map
Service Description: 大正関東地震モデル(5シード平均)地震動データ。値は、地表震度。
Name: Capital_earthquake/intensity_taisho
Description: 大正関東地震モデル(5シード平均)地震動データ。値は、地表震度。
Single Fused Map Cache: false
Extent:
XMin: 272347.1507000001
YMin: 3820088.4251000006
XMax: 489247.1507000001
YMax: 4041788.4251000006
Spatial Reference: 102148
(3100)
Initial Extent:
XMin: 272347.1507000001
YMin: 3820088.4251000006
XMax: 489247.1507000001
YMax: 4041788.4251000006
Spatial Reference: 102148
(3100)
Full Extent:
XMin: 272347.1507000001
YMin: 3820088.4251000006
XMax: 489247.1507000001
YMax: 4041788.4251000006
Spatial Reference: 102148
(3100)
Pixel Size X: 300.0
Pixel Size Y: 300.0
Band Count: 3
Pixel Type: U8
RasterFunction Infos: {"rasterFunctionInfos": [{
"name": "None",
"description": "",
"help": ""
}]}
Mensuration Capabilities: Basic
Has Histograms: false
Has Colormap: false
Has Multi Dimensions : false
Rendering Rule:
Min Scale: 0
Max Scale: 0
Copyright Text:
Service Data Type: esriImageServiceDataTypeRGB
Min Values: N/A
Max Values: N/A
Mean Values: N/A
Standard Deviation Values: N/A
Object ID Field:
Fields:
None
Default Mosaic Method: Center
Allowed Mosaic Methods:
SortField:
SortValue: null
Mosaic Operator: First
Default Compression Quality: 75
Default Resampling Method: Nearest
Max Record Count: null
Max Image Height: 4100
Max Image Width: 15000
Max Download Image Count: null
Max Mosaic Image Count: null
Allow Raster Function: true
Allow Compute TiePoints: false
Supports Statistics: false
Supports Advanced Queries: false
Use StandardizedQueries: true
Raster Type Infos:
Name: Raster Dataset
Description: Supports all ArcGIS Raster Datasets
Help:
Has Raster Attribute Table: false
Edit Fields Info: null
Ownership Based AccessControl For Rasters: null
Child Resources:
Info
Key Properties
Legend
MultiDimensionalInfo
rasterFunctionInfos
Supported Operations:
Export Image
Identify
Measure
Compute Histograms
Compute Statistics Histograms
Get Samples
Compute Class Statistics
Query Boundary
Compute Pixel Location