{
 "currentVersion": 10.71,
 "serviceDescription": "大正関東地震モデル(5シード平均)地震動データ。値は、地表震度。",
 "name": "Capital_earthquake/intensity_taisho",
 "description": "大正関東地震モデル(5シード平均)地震動データ。値は、地表震度。",
 "extent": {
  "xmin": 272347.1507000001,
  "ymin": 3820088.4251000006,
  "xmax": 489247.1507000001,
  "ymax": 4041788.4251000006,
  "spatialReference": {
   "wkid": 102148,
   "latestWkid": 3100
  }
 },
 "initialExtent": {
  "xmin": 272347.1507000001,
  "ymin": 3820088.4251000006,
  "xmax": 489247.1507000001,
  "ymax": 4041788.4251000006,
  "spatialReference": {
   "wkid": 102148,
   "latestWkid": 3100
  }
 },
 "fullExtent": {
  "xmin": 272347.1507000001,
  "ymin": 3820088.4251000006,
  "xmax": 489247.1507000001,
  "ymax": 4041788.4251000006,
  "spatialReference": {
   "wkid": 102148,
   "latestWkid": 3100
  }
 },
 "pixelSizeX": 300,
 "pixelSizeY": 300,
 "bandCount": 3,
 "pixelType": "U8",
 "minPixelSize": 0,
 "maxPixelSize": 0,
 "copyrightText": "",
 "serviceDataType": "esriImageServiceDataTypeRGB",
 "minValues": [],
 "maxValues": [],
 "meanValues": [],
 "stdvValues": [],
 "objectIdField": "",
 "fields": [],
 "capabilities": "Image,Metadata,Mensuration",
 "defaultMosaicMethod": "Center",
 "allowedMosaicMethods": "",
 "sortField": "",
 "sortValue": null,
 "mosaicOperator": "First",
 "defaultCompressionQuality": 75,
 "defaultResamplingMethod": "Nearest",
 "maxImageHeight": 4100,
 "maxImageWidth": 15000,
 "allowRasterFunction": true,
 "rasterFunctionInfos": [
  {
   "name": "None",
   "description": "",
   "help": ""
  }
 ],
 "rasterTypeInfos": [
  {
   "name": "Raster Dataset",
   "description": "Supports all ArcGIS Raster Datasets",
   "help": ""
  }
 ],
 "mensurationCapabilities": "Basic",
 "hasHistograms": false,
 "hasColormap": false,
 "hasRasterAttributeTable": false,
 "minScale": 0,
 "maxScale": 0,
 "exportTilesAllowed": false,
 "hasMultidimensions": false,
 "supportsStatistics": false,
 "supportsAdvancedQueries": false,
 "editFieldsInfo": null,
 "ownershipBasedAccessControlForRasters": null,
 "allowComputeTiePoints": false,
 "useStandardizedQueries": true,
 "advancedQueryCapabilities": {
  "useStandardizedQueries": true,
  "supportsStatistics": false,
  "supportsOrderBy": false,
  "supportsDistinct": false,
  "supportsPagination": false
 },
 "spatialReference": {
  "wkid": 102148,
  "latestWkid": 3100
 }
}
