View In:
ArcGIS JavaScript
ArcGIS.com Map
ArcGIS Earth
ArcMap
View Footprint In:
ArcGIS.com Map
Service Description: 陸域における津波浸水深データ。
越流破堤 :津波が乗り越えたら破堤する
断層ケース:02_元禄関東地震
Pixel 値は、浸水深公表値(メートル)。
Name: Capital_earthquake/flood_genroku
Description: 陸域における津波浸水深データ。
越流破堤 :津波が乗り越えたら破堤する
断層ケース:02_元禄関東地震
Pixel 値は、浸水深公表値(メートル)。
Single Fused Map Cache: false
Extent:
XMin: -66150.01389999967
YMin: -612850.0307999998
XMax: 94169.98610000033
YMax: 95789.96920000017
Spatial Reference: 2451
(2451)
Initial Extent:
XMin: -66150.01389999967
YMin: -612850.0307999998
XMax: 94169.98610000033
YMax: 95789.96920000017
Spatial Reference: 2451
(2451)
Full Extent:
XMin: -66150.01389999967
YMin: -612850.0307999998
XMax: 94169.98610000033
YMax: 95789.96920000017
Spatial Reference: 2451
(2451)
Pixel Size X: 10.0
Pixel Size Y: 10.0
Band Count: 3
Pixel Type: U8
RasterFunction Infos: {"rasterFunctionInfos": [{
"name": "None",
"description": "",
"help": ""
}]}
Mensuration Capabilities: Basic
Has Histograms: false
Has Colormap: false
Has Multi Dimensions : false
Rendering Rule:
Min Scale: 0
Max Scale: 0
Copyright Text:
Service Data Type: esriImageServiceDataTypeRGB
Min Values: N/A
Max Values: N/A
Mean Values: N/A
Standard Deviation Values: N/A
Object ID Field:
Fields:
None
Default Mosaic Method: Center
Allowed Mosaic Methods:
SortField:
SortValue: null
Mosaic Operator: First
Default Compression Quality: 75
Default Resampling Method: Nearest
Max Record Count: null
Max Image Height: 4100
Max Image Width: 15000
Max Download Image Count: null
Max Mosaic Image Count: null
Allow Raster Function: true
Allow Compute TiePoints: false
Supports Statistics: false
Supports Advanced Queries: false
Use StandardizedQueries: true
Raster Type Infos:
Name: Raster Dataset
Description: Supports all ArcGIS Raster Datasets
Help:
Has Raster Attribute Table: false
Edit Fields Info: null
Ownership Based AccessControl For Rasters: null
Child Resources:
Info
Key Properties
Legend
MultiDimensionalInfo
rasterFunctionInfos
Supported Operations:
Export Image
Identify
Measure
Compute Histograms
Compute Statistics Histograms
Get Samples
Compute Class Statistics
Query Boundary
Compute Pixel Location