{
 "currentVersion": 10.71,
 "serviceDescription": "陸域における津波浸水深データ。\n越流破堤 :津波が乗り越えたら破堤する\n断層ケース:02_元禄関東地震\n\nPixel 値は、浸水深公表値(メートル)。",
 "name": "Capital_earthquake/flood_genroku",
 "description": "陸域における津波浸水深データ。\n越流破堤 :津波が乗り越えたら破堤する\n断層ケース:02_元禄関東地震\n\nPixel 値は、浸水深公表値(メートル)。",
 "extent": {
  "xmin": -66150.01389999967,
  "ymin": -612850.0307999998,
  "xmax": 94169.98610000033,
  "ymax": 95789.96920000017,
  "spatialReference": {
   "wkid": 2451,
   "latestWkid": 2451
  }
 },
 "initialExtent": {
  "xmin": -66150.01389999967,
  "ymin": -612850.0307999998,
  "xmax": 94169.98610000033,
  "ymax": 95789.96920000017,
  "spatialReference": {
   "wkid": 2451,
   "latestWkid": 2451
  }
 },
 "fullExtent": {
  "xmin": -66150.01389999967,
  "ymin": -612850.0307999998,
  "xmax": 94169.98610000033,
  "ymax": 95789.96920000017,
  "spatialReference": {
   "wkid": 2451,
   "latestWkid": 2451
  }
 },
 "pixelSizeX": 10,
 "pixelSizeY": 10,
 "bandCount": 3,
 "pixelType": "U8",
 "minPixelSize": 0,
 "maxPixelSize": 0,
 "copyrightText": "",
 "serviceDataType": "esriImageServiceDataTypeRGB",
 "minValues": [],
 "maxValues": [],
 "meanValues": [],
 "stdvValues": [],
 "objectIdField": "",
 "fields": [],
 "capabilities": "Image,Metadata,Mensuration",
 "defaultMosaicMethod": "Center",
 "allowedMosaicMethods": "",
 "sortField": "",
 "sortValue": null,
 "mosaicOperator": "First",
 "defaultCompressionQuality": 75,
 "defaultResamplingMethod": "Nearest",
 "maxImageHeight": 4100,
 "maxImageWidth": 15000,
 "allowRasterFunction": true,
 "rasterFunctionInfos": [
  {
   "name": "None",
   "description": "",
   "help": ""
  }
 ],
 "rasterTypeInfos": [
  {
   "name": "Raster Dataset",
   "description": "Supports all ArcGIS Raster Datasets",
   "help": ""
  }
 ],
 "mensurationCapabilities": "Basic",
 "hasHistograms": false,
 "hasColormap": false,
 "hasRasterAttributeTable": false,
 "minScale": 0,
 "maxScale": 0,
 "exportTilesAllowed": false,
 "hasMultidimensions": false,
 "supportsStatistics": false,
 "supportsAdvancedQueries": false,
 "editFieldsInfo": null,
 "ownershipBasedAccessControlForRasters": null,
 "allowComputeTiePoints": false,
 "useStandardizedQueries": true,
 "advancedQueryCapabilities": {
  "useStandardizedQueries": true,
  "supportsStatistics": false,
  "supportsOrderBy": false,
  "supportsDistinct": false,
  "supportsPagination": false
 },
 "spatialReference": {
  "wkid": 2451,
  "latestWkid": 2451
 }
}
