View In:
ArcGIS JavaScript
ArcGIS.com Map
ArcGIS Earth
ArcMap
View Footprint In:
ArcGIS.com Map
Service Description: 国土地理院から提供された基盤地図情報の GML 形式のジオイド_250mメッシュを加工して作成した、250mメッシュDGHM です。
出典:国土地理院(https://fgd.gsi.go.jp/download/geoid.php)
Name: geoid/DGHM250m_kinki
Description: 国土地理院から提供された基盤地図情報の GML 形式のジオイド_250mメッシュを加工して作成した、250mメッシュDGHM です。
出典:国土地理院(https://fgd.gsi.go.jp/download/geoid.php)
Single Fused Map Cache: false
Extent:
XMin: 134
YMin: 33.333333333
XMax: 137
YMax: 36
Spatial Reference: 104111
(4612)
Initial Extent:
XMin: 134
YMin: 33.333333333
XMax: 137
YMax: 36
Spatial Reference: 104111
(4612)
Full Extent:
XMin: 134
YMin: 33.333333333
XMax: 137
YMax: 36
Spatial Reference: 104111
(4612)
Pixel Size X: 0.003125
Pixel Size Y: 0.002083333333593751
Band Count: 1
Pixel Type: F32
RasterFunction Infos: {"rasterFunctionInfos": [{
"name": "None",
"description": "",
"help": ""
}]}
Mensuration Capabilities: Basic
Has Histograms: true
Has Colormap: false
Has Multi Dimensions : false
Rendering Rule:
Min Scale: 0
Max Scale: 0
Copyright Text: 国土地理院, © Esri Japan
Service Data Type: esriImageServiceDataTypeGeneric
Min Values: 33.924198150634766
Max Values: 41.40999984741211
Mean Values: 37.524342421690626
Standard Deviation Values: 1.4207718351791332
Object ID Field:
Fields:
None
Default Mosaic Method: Center
Allowed Mosaic Methods:
SortField:
SortValue: null
Mosaic Operator: First
Default Compression Quality: 75
Default Resampling Method: Bilinear
Max Record Count: null
Max Image Height: 4100
Max Image Width: 15000
Max Download Image Count: null
Max Mosaic Image Count: null
Allow Raster Function: true
Allow Compute TiePoints: false
Supports Statistics: false
Supports Advanced Queries: false
Use StandardizedQueries: true
Raster Type Infos:
Name: Raster Dataset
Description: Supports all ArcGIS Raster Datasets
Help:
Has Raster Attribute Table: false
Edit Fields Info: null
Ownership Based AccessControl For Rasters: null
Child Resources:
Info
Histograms
Key Properties
Legend
MultiDimensionalInfo
rasterFunctionInfos
Supported Operations:
Export Image
Identify
Measure
Compute Histograms
Compute Statistics Histograms
Get Samples
Compute Class Statistics
Query Boundary
Compute Pixel Location