{
 "currentVersion": 10.71,
 "serviceDescription": "国土地理院から提供された基盤地図情報の GML 形式のジオイド_250mメッシュを加工して作成した、250mメッシュDGHM です。\n出典:国土地理院(https://fgd.gsi.go.jp/download/geoid.php)",
 "name": "geoid/DGHM250m_tohoku",
 "description": "国土地理院から提供された基盤地図情報の GML 形式のジオイド_250mメッシュを加工して作成した、250mメッシュDGHM です。\n出典:国土地理院(https://fgd.gsi.go.jp/download/geoid.php)",
 "extent": {
  "xmin": 139,
  "ymin": 36.666666667,
  "xmax": 143,
  "ymax": 42,
  "spatialReference": {
   "wkid": 104111,
   "latestWkid": 4612
  }
 },
 "initialExtent": {
  "xmin": 139,
  "ymin": 36.666666667,
  "xmax": 143,
  "ymax": 42,
  "spatialReference": {
   "wkid": 104111,
   "latestWkid": 4612
  }
 },
 "fullExtent": {
  "xmin": 139,
  "ymin": 36.666666667,
  "xmax": 143,
  "ymax": 42,
  "spatialReference": {
   "wkid": 104111,
   "latestWkid": 4612
  }
 },
 "pixelSizeX": 0.003125,
 "pixelSizeY": 0.0020833333332031245,
 "bandCount": 1,
 "pixelType": "F32",
 "minPixelSize": 0,
 "maxPixelSize": 0,
 "copyrightText": "国土地理院, © Esri Japan",
 "serviceDataType": "esriImageServiceDataTypeGeneric",
 "minValues": [
  22.599899291992188
 ],
 "maxValues": [
  44.12179946899414
 ],
 "meanValues": [
  39.151073505928025
 ],
 "stdvValues": [
  3.4311005269797157
 ],
 "objectIdField": "",
 "fields": [],
 "capabilities": "Image,Metadata,Mensuration",
 "defaultMosaicMethod": "Center",
 "allowedMosaicMethods": "",
 "sortField": "",
 "sortValue": null,
 "mosaicOperator": "First",
 "defaultCompressionQuality": 75,
 "defaultResamplingMethod": "Bilinear",
 "maxImageHeight": 4100,
 "maxImageWidth": 15000,
 "allowRasterFunction": true,
 "rasterFunctionInfos": [
  {
   "name": "None",
   "description": "",
   "help": ""
  }
 ],
 "rasterTypeInfos": [
  {
   "name": "Raster Dataset",
   "description": "Supports all ArcGIS Raster Datasets",
   "help": ""
  }
 ],
 "mensurationCapabilities": "Basic",
 "hasHistograms": true,
 "hasColormap": false,
 "hasRasterAttributeTable": false,
 "minScale": 0,
 "maxScale": 0,
 "exportTilesAllowed": false,
 "hasMultidimensions": false,
 "supportsStatistics": false,
 "supportsAdvancedQueries": false,
 "editFieldsInfo": null,
 "ownershipBasedAccessControlForRasters": null,
 "allowComputeTiePoints": false,
 "useStandardizedQueries": true,
 "advancedQueryCapabilities": {
  "useStandardizedQueries": true,
  "supportsStatistics": false,
  "supportsOrderBy": false,
  "supportsDistinct": false,
  "supportsPagination": false
 },
 "spatialReference": {
  "wkid": 104111,
  "latestWkid": 4612
 }
}
